BEGIN:VCALENDAR
VERSION:2.0
PRODID:-//Himalayan Center - ECPv6.15.15//NONSGML v1.0//EN
CALSCALE:GREGORIAN
METHOD:PUBLISH
X-ORIGINAL-URL:https://www.himalayancenter.it
X-WR-CALDESC:Eventi per Himalayan Center
REFRESH-INTERVAL;VALUE=DURATION:PT1H
X-Robots-Tag:noindex
X-PUBLISHED-TTL:PT1H
BEGIN:VTIMEZONE
TZID:Europe/Rome
BEGIN:DAYLIGHT
TZOFFSETFROM:+0100
TZOFFSETTO:+0200
TZNAME:CEST
DTSTART:20240331T010000
END:DAYLIGHT
BEGIN:STANDARD
TZOFFSETFROM:+0200
TZOFFSETTO:+0100
TZNAME:CET
DTSTART:20241027T010000
END:STANDARD
BEGIN:DAYLIGHT
TZOFFSETFROM:+0100
TZOFFSETTO:+0200
TZNAME:CEST
DTSTART:20250330T010000
END:DAYLIGHT
BEGIN:STANDARD
TZOFFSETFROM:+0200
TZOFFSETTO:+0100
TZNAME:CET
DTSTART:20251026T010000
END:STANDARD
BEGIN:DAYLIGHT
TZOFFSETFROM:+0100
TZOFFSETTO:+0200
TZNAME:CEST
DTSTART:20260329T010000
END:DAYLIGHT
BEGIN:STANDARD
TZOFFSETFROM:+0200
TZOFFSETTO:+0100
TZNAME:CET
DTSTART:20261025T010000
END:STANDARD
END:VTIMEZONE
BEGIN:VEVENT
DTSTART;TZID=Europe/Rome:20251105T210000
DTEND;TZID=Europe/Rome:20251105T220000
DTSTAMP:20260423T183224
CREATED:20250123T155232Z
LAST-MODIFIED:20250123T155232Z
UID:8708-1762376400-1762380000@www.himalayancenter.it
SUMMARY:Meditazione della Luna Piena
DESCRIPTION:Meditazione della Luna Piena \nSwami Veda affermava che certi giorni dell’anno sono giorni sacri e l’onda di Bellezza e di Beatitudine ha una influenza maggiore\, per questo motivo ci ha sempre invitato a meditare nelle notti di Luna Piena.  \n“La filosofia dello Yoga vede la mente come un campo Universale; le sue onde passano attraverso di noi e diventano le nostre menti individuali. Questa mente universale è una forza che irradia ed è anche chiamata il guru interiore universale.  \nQuando ci sediamo insieme\, allo stesso momento\, anche se in parti del mondo differenti\, ci connettiamo alla mente del guru universale e generiamo un campo molto forte\, come molti magneti collegati insieme formano un magnete molto più forte.  \nLa forza di ognuno diventa allora pari alla forza combinata di tutti. \nAllo stesso modo ci uniamo insieme in meditazione\, e insieme entriamo nel campo mentale del guru. \nIn alcuni giorni dell’anno l’onda della bellezza e l’onda della beatitudine fluiscono molto forti. Questi sono giorni sacri.”  \nSwami Veda Bharati  \n  \nCiascuno di noi potrà unirsi individualmente alla meditazione\, nel luogo in cui si trova da solo o con amici. Principianti\, praticanti di lungo tempo\, non-iniziati e iniziati di qualsiasi tradizione o di nessuna tradizione sono i benvenuti.  \nSe non puoi sederti per un’ora\, o non sei abituato\, rimani per il tempo che vuoi. \n  \n“Lascia che la quiete della mente continui a fluire anche dopo che ti sei alzato o… hai lasciato la posizione meditativa” \nSwami Veda Bharati \nPer onorare il suo invito\, in queste notti di Luna Piena\, ci ritroveremo a meditare insieme e connetterci alla mente Universale del Guru.  \nL’ora italiana è le 21.00 \nLa meditazione è guidata\, aperta e gratuita. \n  \n“Le meditazioni sulla luna piena sono un’opportunità per noi di riunirci in connessione con il campo mentale universale portando unità\, armonia\, pace e amore. Entra nel tuo silenzio; espira-rilascia\, inspira-accetta\, perdona e appaga\, con il cuore e la mente purificati ricevi le benedizioni del Lignaggio.” \nSwami Ritavan Bharati \n Chiunque si voglia unire a noi è il benvenuto!  \nLokas samastas sukhino bhavantu \n“Possa il mondo intero ottenere pace ed armonia”
URL:https://www.himalayancenter.it/evento/meditazione-della-luna-piena-50/
LOCATION:Himalayan Center\, Via degli Obizzi\, 29\, Padova
CATEGORIES:Meditazione
ATTACH;FMTTYPE=image/jpeg:https://www.himalayancenter.it/wp-content/uploads/2021/07/kym-mackinnon-r0WXBtwI2Eo-unsplash-scaled.jpg
END:VEVENT
END:VCALENDAR